BEGIN:VCALENDAR
PRODID:-//eluceo/ical//2.0/EN
VERSION:2.0
CALSCALE:GREGORIAN
BEGIN:VEVENT
UID:9fc64da20e204c1e29b6b2545d21571c
DTSTAMP:20260420T072211Z
SUMMARY:Sam and Sarah Kerzner and Joseph Kerzner Memorial Lecture
DESCRIPTION:UJA Federation of Greater Toronto\nJewish Toronto Calendar\nhtt
 ps://jewishtoronto.com/calendar/sam-and-sarah-kerzner-and-joseph-kerzner-m
 emorial-lecture-1490721626\n\nThis is an annual lecture\, sponsored by the
  Kerzner family and Eitz Chaim Schools. Rabbi Paysach Krohn is the keynote
  speaker\, and he addresses issues of Prayer\, Repentance\, and Chesed dur
 ing the High Holiday period.
DTSTART;TZID=America/Toronto:20170925T200000
DTEND;TZID=America/Toronto:20170925T220000
END:VEVENT
END:VCALENDAR
