BEGIN:VCALENDAR
PRODID:-//eluceo/ical//2.0/EN
VERSION:2.0
CALSCALE:GREGORIAN
BEGIN:VEVENT
UID:fbcd8dd06134ba297567c8f1d7af7ae1
DTSTAMP:20260422T012520Z
SUMMARY:SACH & Jaffa: Healing Hearts of Children in Israel
DESCRIPTION:UJA Federation of Greater Toronto\nJewish Toronto Calendar\nhtt
 ps://jewishtoronto.com/calendar/sach--jaffa-healing-hearts-of-children-in-
 israel-1743700162\n\nSave a Child's Heart and the Jaffa Institute will be 
 joining forces to create a memorable hiking event that will be hosted in a
  local location just outside the GTA.\n\nFor more details\, please reach o
 ut to melanie@saveachildsheart.ca.
DTSTART;TZID=America/Toronto:20251005T100000
DTEND;TZID=America/Toronto:20251005T130000
END:VEVENT
END:VCALENDAR
