BEGIN:VCALENDAR
PRODID:-//eluceo/ical//2.0/EN
VERSION:2.0
CALSCALE:GREGORIAN
BEGIN:VEVENT
UID:655917d0589d35a078f87a6d6eafabac
DTSTAMP:20260422T125616Z
SUMMARY:CIJA & UJA: Annual Legal Conference: Rule of Law in Times of Crisis
DESCRIPTION:UJA Federation of Greater Toronto\nJewish Toronto Calendar\nhtt
 ps://jewishtoronto.com/calendar/rule-of-law-in-times-of-crisis\n\nUJA and 
 our advocacy agent the Centre for Israel and Jewish Affairs (CIJA) are ple
 ased to present our fourth annual legal conference\, the Rule of Law in Ti
 mes of Crisis\, by webinar this year. Join your peers from across Canada t
 o hear about legal issues brought into sharp relief by recent world events
  that have impacted us all. An array of expert speakers and panelists will
  examine how times of crisis challenge the rule of law. Get your tickets t
 oday!
DTSTART;TZID=America/Toronto:20210209T100000
DTEND;TZID=America/Toronto:20210209T170000
END:VEVENT
END:VCALENDAR
