BEGIN:VCALENDAR
PRODID:-//eluceo/ical//2.0/EN
VERSION:2.0
CALSCALE:GREGORIAN
BEGIN:VEVENT
UID:3f53a5efb7852914e4c61ac3b09a5387
DTSTAMP:20260419T152336Z
SUMMARY:Rosh Hashanah Cooking with Chef Anthony Rose
DESCRIPTION:UJA Federation of Greater Toronto\nJewish Toronto Calendar\nhtt
 ps://jewishtoronto.com/calendar/rosh-hashanah-cooking-with-chef-anthony-ro
 se-1598470546\n\nAnthony Rose\, Executive Chef and founder of Rose and Son
 s\, will share a special Rosh Hashanah dish for you to cook in your own ho
 me. He&#039\;ll be teaching us to make his signature Chopped Liver - a per
 fect twist on a classic family favourite!\n\nBeth Tzedec members will rece
 ive a special recipe card with instructions in their High Holy Day package
 s\, but everyone is welcome to join this lively demonstration. \n\nRegiste
 r through Eventbrite.ca to receive the Zoom link and recipe information.
DTSTART;TZID=America/Toronto:20200827T194500
DTEND;TZID=America/Toronto:20200827T204500
END:VEVENT
END:VCALENDAR
