BEGIN:VCALENDAR
PRODID:-//eluceo/ical//2.0/EN
VERSION:2.0
CALSCALE:GREGORIAN
BEGIN:VEVENT
UID:642a58b3893548b0b8ed9898010b3ba4
DTSTAMP:20260424T122800Z
SUMMARY:Rosh Hashanah - a Humanistic Approach
DESCRIPTION:UJA Federation of Greater Toronto\nJewish Toronto Calendar\nhtt
 ps://jewishtoronto.com/calendar/rosh-hashanah---a-humanistic-approach-1693
 175607\n\nMarking the High Holidays for secular and cultural Jews
DTSTART;TZID=America/Toronto:20230916T103000
DTEND;TZID=America/Toronto:20230916T123000
END:VEVENT
END:VCALENDAR
