BEGIN:VCALENDAR
PRODID:-//eluceo/ical//2.0/EN
VERSION:2.0
CALSCALE:GREGORIAN
BEGIN:VEVENT
UID:ac169541499180c491754b73e33973b1
DTSTAMP:20260420T230510Z
SUMMARY:Roots and Intersections – A Community Forum
DESCRIPTION:UJA Federation of Greater Toronto\nJewish Toronto Calendar\nhtt
 ps://jewishtoronto.com/calendar/roots-and-intersections--a-community-forum
 -1675900858\n\nMusic and discussion in a free event with the Jubilate Sing
 ers\, soprano Denise Williams and some of the soloists featured in their M
 arch 4 concert of music reflecting the African\, Jewish and Muslim Diaspor
 as
DTSTART;TZID=America/Toronto:20230219T123000
DTEND;TZID=America/Toronto:20230219T140000
END:VEVENT
END:VCALENDAR
