BEGIN:VCALENDAR
PRODID:-//eluceo/ical//2.0/EN
VERSION:2.0
CALSCALE:GREGORIAN
BEGIN:VEVENT
UID:2eb585999a24c8933f3288f328c90975
DTSTAMP:20260422T092351Z
SUMMARY:"Roots and Branches" First Night Seder
DESCRIPTION:UJA Federation of Greater Toronto\nJewish Toronto Calendar\nhtt
 ps://jewishtoronto.com/calendar/roots-and-branches-first-night-seder-17126
 02172\n\nCelebrate a Humanistic Passover with Oraynu
DTSTART;TZID=America/Toronto:20240422T180000
DTEND;TZID=America/Toronto:20240422T210000
END:VEVENT
END:VCALENDAR
