BEGIN:VCALENDAR
PRODID:-//eluceo/ical//2.0/EN
VERSION:2.0
CALSCALE:GREGORIAN
BEGIN:VEVENT
UID:24237fc549fcdc4fb9c117433169ac3a
DTSTAMP:20260420T121459Z
SUMMARY:Robert & Anne Strom Memorial Concert - Darrin Baker and Friends
DESCRIPTION:UJA Federation of Greater Toronto\nJewish Toronto Calendar\nhtt
 ps://jewishtoronto.com/calendar/robert--anne-strom-memorial-concert---darr
 in-baker-and-friends-1495636973\n\nA Temple Sinai Program — Robert & Ann
 e Strom Memorial Concert-in-the Round — Darrin Baker and Friends\n\nJoin
  us for an evening of songs and stories with one of Broadway and Televisio
 n’s busiest actors\, Darrin Baker. The show will include special guest a
 ppearances including Hannah Levinson the star of Matilda\, theatre veteran
 s Mark Cassius and Louise Camilleri. The show will be musically directed a
 nd accompanied by Canada’s most sought after conductor Mark Camilleri. T
 his concert is f...
DTSTART;TZID=America/Toronto:20170612T200000
DTEND;TZID=America/Toronto:20170612T220000
END:VEVENT
END:VCALENDAR
