BEGIN:VCALENDAR
PRODID:-//eluceo/ical//2.0/EN
VERSION:2.0
CALSCALE:GREGORIAN
BEGIN:VEVENT
UID:cf3557a0d80098a94574ba0f952a2d5c
DTSTAMP:20260420T185707Z
SUMMARY:Robbins Hebrew Academy Ride - A-Thon
DESCRIPTION:UJA Federation of Greater Toronto\nJewish Toronto Calendar\nhtt
 ps://jewishtoronto.com/calendar/robbins-hebrew-academy-ride---a-thon-15282
 18836\n\nRide a thon
DTSTART;TZID=America/Toronto:20190602T100500
DTEND;TZID=America/Toronto:20190602T140500
END:VEVENT
END:VCALENDAR
