BEGIN:VCALENDAR
PRODID:-//eluceo/ical//2.0/EN
VERSION:2.0
CALSCALE:GREGORIAN
BEGIN:VEVENT
UID:2ac817ef517fb94e319385b810693036
DTSTAMP:20260424T022925Z
SUMMARY:Robbins Hebrew Academy - Gala
DESCRIPTION:UJA Federation of Greater Toronto\nJewish Toronto Calendar\nhtt
 ps://jewishtoronto.com/calendar/robbins-hebrew-academy-gala\n\nSave the da
 te for the Robbins Hebrew Academy Gala.
DTSTART;TZID=America/Toronto:20170330T180000
DTEND;TZID=America/Toronto:20170330T230000
END:VEVENT
END:VCALENDAR
