BEGIN:VCALENDAR
PRODID:-//eluceo/ical//2.0/EN
VERSION:2.0
CALSCALE:GREGORIAN
BEGIN:VEVENT
UID:68463b883152d63f993f60f1281d9da0
DTSTAMP:20260423T064103Z
SUMMARY:Rita and Friends “A Trio of Delightful Entertainers”
DESCRIPTION:UJA Federation of Greater Toronto\nJewish Toronto Calendar\nhtt
 ps://jewishtoronto.com/calendar/rita-and-friends-a-trio-of-delightful-ente
 rtainers-1503951799\n\nRita and Friends “A trio of delightful entertaine
 rs”. Members: $7.00\, Non Members: $10.00. RSVP Rose Haspel at (905) 764
 -8141 by December 4\, 2017.
DTSTART;TZID=America/Toronto:20171210T133000
DTEND;TZID=America/Toronto:20171210T150000
END:VEVENT
END:VCALENDAR
