BEGIN:VCALENDAR
PRODID:-//eluceo/ical//2.0/EN
VERSION:2.0
CALSCALE:GREGORIAN
BEGIN:VEVENT
UID:d5351b9da9402bd01a5f7475db6d41c7
DTSTAMP:20260425T040824Z
SUMMARY:Ride with RHA
DESCRIPTION:UJA Federation of Greater Toronto\nJewish Toronto Calendar\nhtt
 ps://jewishtoronto.com/calendar/ride-with-rha-1510592378\n\nRide with RHA!
  First annual event to support Robbins Hebrew Academy
DTSTART;TZID=America/Toronto:20180603T080000
DTEND;TZID=America/Toronto:20180603T130000
END:VEVENT
END:VCALENDAR
