BEGIN:VCALENDAR
PRODID:-//eluceo/ical//2.0/EN
VERSION:2.0
CALSCALE:GREGORIAN
BEGIN:VEVENT
UID:12c6e3ddd05a7274619959c9609dbaab
DTSTAMP:20260421T002428Z
SUMMARY:Ride for KCC Overnight Experience
DESCRIPTION:UJA Federation of Greater Toronto\nJewish Toronto Calendar\nhtt
 ps://jewishtoronto.com/calendar/ride-for-kcc-overnight-experience-16056260
 05\n\nFor more info contact leah@kaylaschildrencentre.org
DTSTART;TZID=America/Toronto:20210614T100000
DTEND;TZID=America/Toronto:20210615T220000
END:VEVENT
END:VCALENDAR
