BEGIN:VCALENDAR
PRODID:-//eluceo/ical//2.0/EN
VERSION:2.0
CALSCALE:GREGORIAN
BEGIN:VEVENT
UID:3b0c787b0f46deb4cc41e68792718f7c
DTSTAMP:20260425T162107Z
SUMMARY:Ride for KCC 2026
DESCRIPTION:UJA Federation of Greater Toronto\nJewish Toronto Calendar\nhtt
 ps://jewishtoronto.com/calendar/ride-for-kcc-2026-1767815887\n\n29th Annua
 l Ride for KCC
DTSTART;TZID=America/Toronto:20260621T060000
DTEND;TZID=America/Toronto:20260621T140000
END:VEVENT
END:VCALENDAR
