BEGIN:VCALENDAR
PRODID:-//eluceo/ical//2.0/EN
VERSION:2.0
CALSCALE:GREGORIAN
BEGIN:VEVENT
UID:317f1dfb2fc594ed1c202192ac933f77
DTSTAMP:20260425T105824Z
SUMMARY:Ride for KCC
DESCRIPTION:UJA Federation of Greater Toronto\nJewish Toronto Calendar\nhtt
 ps://jewishtoronto.com/calendar/ride-for-kcc-1642614505\n\n25th annual Rid
 e for KCC (formerly Zareinu Moveathon)\nwww.rideforkcc.com
DTSTART;TZID=America/Toronto:20220918T070000
DTEND;TZID=America/Toronto:20220918T140000
END:VEVENT
END:VCALENDAR
