BEGIN:VCALENDAR
PRODID:-//eluceo/ical//2.0/EN
VERSION:2.0
CALSCALE:GREGORIAN
BEGIN:VEVENT
UID:93219cb829f8846beda440ed5331ce1f
DTSTAMP:20260424T185251Z
SUMMARY:Ride for KCC - Overnight Muskoka Experience
DESCRIPTION:UJA Federation of Greater Toronto\nJewish Toronto Calendar\nhtt
 ps://jewishtoronto.com/calendar/ride-for-kcc---overnight-muskoka-experienc
 e-1540906845\n\nJoin our 2nd annual Muskoka Challenge on August 18-19th! T
 his ride is a first-class\, all-inclusive 135 km ride in Muskoka. Prepare 
 to be wined and dined\; receive a white-glove experience as you ride the b
 eautiful terrain and scenery Muskoka has to offer! and truly Feel the impa
 ct you are making as you roll through a most inspiring finish line greeted
  by the children of Kayla's Overnight Camp!\nFor more information or to re
 gister\, please visit www.rideforkcc.com.
DTSTART;TZID=America/Toronto:20190818T160000
DTEND;TZID=America/Toronto:20190819T190000
END:VEVENT
END:VCALENDAR
