BEGIN:VCALENDAR
PRODID:-//eluceo/ical//2.0/EN
VERSION:2.0
CALSCALE:GREGORIAN
BEGIN:VEVENT
UID:2c20379ee3ef60f1b1b461bb46891608
DTSTAMP:20260421T155642Z
SUMMARY:RHA Ride-A-Thon
DESCRIPTION:UJA Federation of Greater Toronto\nJewish Toronto Calendar\nhtt
 ps://jewishtoronto.com/calendar/rha-ride-a-thon-1528910758\n\nRHA's Second
  Annual Ride-A-Thon
DTSTART;TZID=America/Toronto:20190602T100000
DTEND;TZID=America/Toronto:20190602T140000
END:VEVENT
END:VCALENDAR
