BEGIN:VCALENDAR
PRODID:-//eluceo/ical//2.0/EN
VERSION:2.0
CALSCALE:GREGORIAN
BEGIN:VEVENT
UID:396dc04e8e990557d94e6c5c4f5dc2e3
DTSTAMP:20260425T041437Z
SUMMARY:RHA Open House & Be a Mensch Event
DESCRIPTION:UJA Federation of Greater Toronto\nJewish Toronto Calendar\nhtt
 ps://jewishtoronto.com/calendar/rha-open-house--be-a-mensch-event-14786996
 87\n\nRHA Open House: We've revamped and renovated our early years wing. A
 ttend our Open House and Little Thinkers event to see the new space at RHA
 .During our Open House\, RHA provides your little thinkers (ages 2-4 with 
 their families) with songs\, crafts and fun. Dinner included.Register by N
 ovember 15 at www.rhacademy.ca/littlethinkersevent
DTSTART;TZID=America/Toronto:20161120T164500
DTEND;TZID=America/Toronto:20161120T181500
END:VEVENT
END:VCALENDAR
