BEGIN:VCALENDAR
PRODID:-//eluceo/ical//2.0/EN
VERSION:2.0
CALSCALE:GREGORIAN
BEGIN:VEVENT
UID:a5925724fd34444a0a7f30306bd0e5ed
DTSTAMP:20260421T234933Z
SUMMARY:RHA Grandparents and Special Friends Day
DESCRIPTION:UJA Federation of Greater Toronto\nJewish Toronto Calendar\nhtt
 ps://jewishtoronto.com/calendar/rha-grandparents-and-special-friends-day-1
 528909538\n\nMore details to follow.
DTSTART;TZID=America/Toronto:20181102T090000
DTEND;TZID=America/Toronto:20181102T235900
END:VEVENT
END:VCALENDAR
