BEGIN:VCALENDAR
PRODID:-//eluceo/ical//2.0/EN
VERSION:2.0
CALSCALE:GREGORIAN
BEGIN:VEVENT
UID:3318a251bfca0abf6e17bb29a6813843
DTSTAMP:20260423T082401Z
SUMMARY:RHA Community Hack-a-thon
DESCRIPTION:UJA Federation of Greater Toronto\nJewish Toronto Calendar\nhtt
 ps://jewishtoronto.com/calendar/rha-community-hack-a-thon-1512490717\n\nRH
 A is hosting a community hack-a-thon for kids ages 9 to 13.
DTSTART;TZID=America/Toronto:20180429T090000
DTEND;TZID=America/Toronto:20180429T160000
END:VEVENT
END:VCALENDAR
