BEGIN:VCALENDAR
PRODID:-//eluceo/ical//2.0/EN
VERSION:2.0
CALSCALE:GREGORIAN
BEGIN:VEVENT
UID:7790163272f5c4614aa291b0b4c0929a
DTSTAMP:20260424T095737Z
SUMMARY:RHA Annual Corporation Meeting
DESCRIPTION:UJA Federation of Greater Toronto\nJewish Toronto Calendar\nhtt
 ps://jewishtoronto.com/calendar/rha-annual-corporation-meeting-1\n\nRHA An
 nual Corporation Meeting
DTSTART;TZID=America/Toronto:20150603T193000
DTEND;TZID=America/Toronto:20150603T213000
END:VEVENT
END:VCALENDAR
