BEGIN:VCALENDAR
PRODID:-//eluceo/ical//2.0/EN
VERSION:2.0
CALSCALE:GREGORIAN
BEGIN:VEVENT
UID:ed8f6ef9daba6de754827457da1ef6da
DTSTAMP:20260423T083417Z
SUMMARY:RHA and Beth Tzedek Speaker Series
DESCRIPTION:UJA Federation of Greater Toronto\nJewish Toronto Calendar\nhtt
 ps://jewishtoronto.com/calendar/rha-and-beth-tzedek-speaker-series\n\nLean
 ne Matlow to Speak on Mental Health Issues focusing on youth
DTSTART;TZID=America/Toronto:20171026T192000
DTEND;TZID=America/Toronto:20171026T202000
END:VEVENT
END:VCALENDAR
