BEGIN:VCALENDAR
PRODID:-//eluceo/ical//2.0/EN
VERSION:2.0
CALSCALE:GREGORIAN
BEGIN:VEVENT
UID:a391aca9d7d378da804247465d6a9d1e
DTSTAMP:20260420T034508Z
SUMMARY:RHA Academy Board Meeting and Telethon
DESCRIPTION:UJA Federation of Greater Toronto\nJewish Toronto Calendar\nhtt
 ps://jewishtoronto.com/calendar/rha-academy-board-meeting-and-telethon\n\n
 RHA Academy Board Meeting and Telethon
DTSTART;TZID=America/Toronto:20141201T180000
DTEND;TZID=America/Toronto:20141201T210000
END:VEVENT
END:VCALENDAR
