BEGIN:VCALENDAR
PRODID:-//eluceo/ical//2.0/EN
VERSION:2.0
CALSCALE:GREGORIAN
BEGIN:VEVENT
UID:77243da283fdd7d7d1e07b09e6afc842
DTSTAMP:20260420T101659Z
SUMMARY:Revolving Tables Presented by Israel Cancer Research Fund Next Gene
 ration
DESCRIPTION:UJA Federation of Greater Toronto\nJewish Toronto Calendar\nhtt
 ps://jewishtoronto.com/calendar/revolving-tables-presented-by-israel-cance
 r-research-fund-next-generation\n\nRevolving Tables is a social and networ
 king event for a cause – hosting over 250 young professionals\, the even
 t aims to raise awareness and funds for ICRF as well as provide an evening
  of great food\, professional growth and social exchange.\n\nThroughout th
 e cocktails and 3-course meal\, participants will have the opportunity to 
 meet other young professionals and engage with renowned Canadian Executive
 s and Community Leaders. Each table the guests sit at will be a new experi
 ence and an exclu...
DTSTART;TZID=America/Toronto:20150225T173000
DTEND;TZID=America/Toronto:20150225T213000
END:VEVENT
END:VCALENDAR
