BEGIN:VCALENDAR
PRODID:-//eluceo/ical//2.0/EN
VERSION:2.0
CALSCALE:GREGORIAN
BEGIN:VEVENT
UID:78b166b3f131a33d365bc7ffac874ab4
DTSTAMP:20260421T011005Z
SUMMARY:Revolving Tables
DESCRIPTION:UJA Federation of Greater Toronto\nJewish Toronto Calendar\nhtt
 ps://jewishtoronto.com/calendar/revolving-tables\n\nDinner
DTSTART;TZID=America/Toronto:20140219T173000
DTEND;TZID=America/Toronto:20140219T220000
END:VEVENT
END:VCALENDAR
