BEGIN:VCALENDAR
PRODID:-//eluceo/ical//2.0/EN
VERSION:2.0
CALSCALE:GREGORIAN
BEGIN:VEVENT
UID:a7e45dafb28ed1a95f27e4df248ad860
DTSTAMP:20260420T110410Z
SUMMARY:Restoring Hope
DESCRIPTION:UJA Federation of Greater Toronto\nJewish Toronto Calendar\nhtt
 ps://jewishtoronto.com/calendar/restoring-hope-1541307957\n\nChai Lifeline
  Canada's annual event supporting children affected by serious illness and
  their families.
DTSTART;TZID=America/Toronto:20190401T193000
DTEND;TZID=America/Toronto:20190401T223000
END:VEVENT
END:VCALENDAR
