BEGIN:VCALENDAR
PRODID:-//eluceo/ical//2.0/EN
VERSION:2.0
CALSCALE:GREGORIAN
BEGIN:VEVENT
UID:70a6d15385260f39412c7a12eaee6187
DTSTAMP:20260423T180731Z
SUMMARY:Raoul Wallenberg Day Film Screening - Rescue in the Philippines
DESCRIPTION:UJA Federation of Greater Toronto\nJewish Toronto Calendar\nhtt
 ps://jewishtoronto.com/calendar/rescue-in-the-philippines-295706\n\nIn hon
 our of Raoul Wallenberg Day 2019\, join the Neuberger for a film screening
  exploring an untold story of rescue during the Holocaust. RESCUE IN THE P
 HILIPPINES: REFUGE FROM THE HOLOCAUST recounts a fascinating\, yet seldom-
 told\, chapter in history. The documentary chronicles a real-life Casablan
 ca\, in which a high-profile group of poker buddies — including Colonel 
 Dwight Eisenhower — devised an intricate international plan of rescue an
 d resettlement\, saving 1\,300 Jews from Nazi con...
DTSTART;TZID=America/Toronto:20190117T193000
DTEND;TZID=America/Toronto:20190117T213000
END:VEVENT
END:VCALENDAR
