BEGIN:VCALENDAR
PRODID:-//eluceo/ical//2.0/EN
VERSION:2.0
CALSCALE:GREGORIAN
BEGIN:VEVENT
UID:82d691d209022c32ca0a22fd6937614d
DTSTAMP:20260424T084808Z
SUMMARY:Renewing Our Spirit sponsored by Torah in Motion
DESCRIPTION:UJA Federation of Greater Toronto\nJewish Toronto Calendar\nhtt
 ps://jewishtoronto.com/calendar/renewing-our-spirit-sponsored-by-torah-in-
 motion\n\nCall Torah in Motion for more information.
DTSTART;TZID=America/Toronto:20151121T200000
DTEND;TZID=America/Toronto:20151121T220000
END:VEVENT
END:VCALENDAR
