BEGIN:VCALENDAR
PRODID:-//eluceo/ical//2.0/EN
VERSION:2.0
CALSCALE:GREGORIAN
BEGIN:VEVENT
UID:a41418555898dad8d0971aad16949420
DTSTAMP:20260423T190430Z
SUMMARY:Renewal Canada Golf Tournament
DESCRIPTION:UJA Federation of Greater Toronto\nJewish Toronto Calendar\nhtt
 ps://jewishtoronto.com/calendar/renewal-canada-golf-tournament-1753392452\
 n\nYou are invited to join Renewal Canada at their Inaugural Golf Tourname
 nt held at the Lebovic Golf Club. Lebovic Golf Club is an 18 hole champion
 ship golf course. The par 70 layout is set upon 150 acres of rolling hills
  on the Oak Ridges Moraine in Aurora\, Ontario. With breathtaking views an
 d natural beauty\, the course challenges both the expert player and novice
  alike.\n\nKosher Meals and drink tickets will be provided.
DTSTART;TZID=America/Toronto:20260611T100000
DTEND;TZID=America/Toronto:20260611T170000
END:VEVENT
END:VCALENDAR
