BEGIN:VCALENDAR
PRODID:-//eluceo/ical//2.0/EN
VERSION:2.0
CALSCALE:GREGORIAN
BEGIN:VEVENT
UID:ebbe5c85ffd888e2e9d00e89c87dffdb
DTSTAMP:20260419T154549Z
SUMMARY:Religious Dilemmas and Jewish Choices with Rabbi David Hoffman
DESCRIPTION:UJA Federation of Greater Toronto\nJewish Toronto Calendar\nhtt
 ps://jewishtoronto.com/calendar/religious-dilemmas-and-jewish-choices-with
 -rabbi-david-hoffman-1492122728\n\nKabbalat Shabbat Service\, Lecture and 
 Dinner with Rabbi David Hoffman\nReligious Passion and Violence: The Dilem
 ma of Unholy Alliances\nDinner cost: $36 adults\; $18 youth (ages 5-13)\; 
 $6 children (ages 1-4)\, by advance reservation only by Monday\, May 8.\nS
 habbat\, May 13 at services at 8:45 am - No Good Choices: Prisoner Exchang
 es for Hostages. Rabbi Hoffman gives a pulpit presentation during the Shah
 arit service\, with a presentation at the Congregational Kiddush on Can a 
 Kosher restaurant Ser...
DTSTART;TZID=America/Toronto:20170512T183000
DTEND;TZID=America/Toronto:20170512T220000
END:VEVENT
END:VCALENDAR
