BEGIN:VCALENDAR
PRODID:-//eluceo/ical//2.0/EN
VERSION:2.0
CALSCALE:GREGORIAN
BEGIN:VEVENT
UID:c5f5ef716f3edc20e6d4b01bd707fb88
DTSTAMP:20260420T085919Z
SUMMARY:Relevance and Sustainability: The Future of Holocaust Museums
DESCRIPTION:UJA Federation of Greater Toronto\nJewish Toronto Calendar\nhtt
 ps://jewishtoronto.com/calendar/relevance-and-sustainability-the-future-of
 -holocaust-museums-1599615958\n\nKEYNOTE: Dr. Michael Berenbaum\n\nMODERAT
 OR: Paul Salmons\n\nPANELISTS:\n\nDr. Piotr M.A. Cywinski\, Museum Directo
 r\, Auschwitz-Birkenau State Museum\n\nAlice Herscovitch\, Consultant\, Mo
 ntreal Holocaust Museum\n\nDr. Edna Frieberg\, Senior Program Curator\, Un
 ited States Holocaust Memorial Museum (USHMM)\n\nTali Nates\, Founder & Di
 rector\, Johannesburg Holocaust and Genocide Centre\n\nZev Lanton\, Direct
 or of International Relations\, Museum of Eternal Faith & Resilience
DTSTART;TZID=America/Toronto:20200930T120000
DTEND;TZID=America/Toronto:20200930T133000
END:VEVENT
END:VCALENDAR
