BEGIN:VCALENDAR
PRODID:-//eluceo/ical//2.0/EN
VERSION:2.0
CALSCALE:GREGORIAN
BEGIN:VEVENT
UID:4449f6afa2607c96a076b9c123e9ae18
DTSTAMP:20260425T123425Z
SUMMARY:REGISTER NOW for MNjcc Winter Programs!
DESCRIPTION:UJA Federation of Greater Toronto\nJewish Toronto Calendar\nhtt
 ps://jewishtoronto.com/calendar/register-now-for-mnjcc-winter-programs\n\n
 Jewish Life\, Cultural Arts\, Active 55+\, Fitness\, Aquatics\, Film Lectu
 res\, Families and more!\nDecember 3: Members Registration opens\nDecember
  10: Non Members Registration opens\n\n\n 
DTSTART;TZID=America/Toronto:20141203T000000
DTEND;TZID=America/Toronto:20141203T000000
END:VEVENT
END:VCALENDAR
