BEGIN:VCALENDAR
PRODID:-//eluceo/ical//2.0/EN
VERSION:2.0
CALSCALE:GREGORIAN
BEGIN:VEVENT
UID:bc11f5d4c1dad2fa6967d557a5c31777
DTSTAMP:20260421T021102Z
SUMMARY:Regional Bible Contest 2018
DESCRIPTION:UJA Federation of Greater Toronto\nJewish Toronto Calendar\nhtt
 ps://jewishtoronto.com/calendar/regional-bible-contest-2018-196201\n\nPLEA
 SE CLICK BELOW FOR CHAPTERS:\n\n \n\n\nEnglish Chapter List\nHebrew Chap
 ter List\n\n\nWebsite for Studying \n\n 
DTSTART;TZID=America/Toronto:20180304T100000
DTEND;TZID=America/Toronto:20180304T130000
END:VEVENT
END:VCALENDAR
