BEGIN:VCALENDAR
PRODID:-//eluceo/ical//2.0/EN
VERSION:2.0
CALSCALE:GREGORIAN
BEGIN:VEVENT
UID:45820f1b3a604a200c6bd2204be47143
DTSTAMP:20260423T212558Z
SUMMARY:Regional Bible Contest
DESCRIPTION:UJA Federation of Greater Toronto\nJewish Toronto Calendar\nhtt
 ps://jewishtoronto.com/calendar/regional-bible-contest-1559759800\n\n*exac
 t time to be confirmed.\nThe study of the Tanach increases our student’s
  connection with the Jewish People\, their love of the Land of Israel\, th
 eir love of text\, and their love of Torah. What better way to encourage s
 tudents to study and learn the Tanach than by involving them in the Bible 
 Contest. The regional Chidon Hatanach (Bible Contest) is an annual competi
 tion on the Jewish Bible\, for middle school and high school students.
DTSTART;TZID=America/Toronto:20200301T090000
DTEND;TZID=America/Toronto:20200301T120000
END:VEVENT
END:VCALENDAR
