BEGIN:VCALENDAR
PRODID:-//eluceo/ical//2.0/EN
VERSION:2.0
CALSCALE:GREGORIAN
BEGIN:VEVENT
UID:7fc889cf9acc963cfb61f269437df4a6
DTSTAMP:20260422T115221Z
SUMMARY:Regional Bible Contest
DESCRIPTION:UJA Federation of Greater Toronto\nJewish Toronto Calendar\nhtt
 ps://jewishtoronto.com/calendar/regional-bible-contest\n\nRegional Bible C
 ontest
DTSTART;TZID=America/Toronto:20150308T090000
DTEND;TZID=America/Toronto:20150308T133000
END:VEVENT
END:VCALENDAR
