BEGIN:VCALENDAR
PRODID:-//eluceo/ical//2.0/EN
VERSION:2.0
CALSCALE:GREGORIAN
BEGIN:VEVENT
UID:054f2bbc211666ce4f4e67a8b232cb8d
DTSTAMP:20260426T021401Z
SUMMARY:Reform Jewish Voices
DESCRIPTION:UJA Federation of Greater Toronto\nJewish Toronto Calendar\nhtt
 ps://jewishtoronto.com/calendar/reform-jewish-voices-1585154839\n\nReform 
 Jewish Voices\nwith Rabbi Jordan Helfman\n\nTuesdays March 31\, April 7\, 
 14\, 2020 at 11:00 am\n\n \n\n \n\nJoin us here: https://zoom.us/j/25520
 4750\n\nExplore three Reform Jewish voices\, telling the history of our mo
 vement’s arrival in North America. The stories of these teachers and pre
 achers will show how they helped shape – and were shaped by – North Am
 erican Reform Judaism. Special attention will be paid to their sermons\, w
 hich will be assigned as reading before each sessio...
DTSTART;TZID=America/Toronto:20200331T110000
DTEND;TZID=America/Toronto:20200331T120000
END:VEVENT
END:VCALENDAR
