BEGIN:VCALENDAR
PRODID:-//eluceo/ical//2.0/EN
VERSION:2.0
CALSCALE:GREGORIAN
BEGIN:VEVENT
UID:026172bd3e056b8af0aa85afd22a7867
DTSTAMP:20260423T110254Z
SUMMARY:How can children can live their best lives once they move out on th
 eir own?
DESCRIPTION:UJA Federation of Greater Toronto\nJewish Toronto Calendar\nhtt
 ps://jewishtoronto.com/calendar/reflective-hands-on-and-interactive\n\nFac
 ilitated by:  Natalie Richter and Jodi Asch\, two mothers of young adults
  with special needs\n\nWe will be sharing our ideas and have group brainst
 orming sessions. The clearer we are\, the better we will be at finding th
 e right resources to help us get closer to the dream.\n\nBy the end of the
  evening we’ll have developed a checklist of things to think about when 
 preparing for our kids to live ‘on their own’.\n\n1. Start to articula
 te what our hopes for our kids are (dreaming stage)...
DTSTART;TZID=America/Toronto:20200203T193000
DTEND;TZID=America/Toronto:20200203T213000
END:VEVENT
END:VCALENDAR
