BEGIN:VCALENDAR
PRODID:-//eluceo/ical//2.0/EN
VERSION:2.0
CALSCALE:GREGORIAN
BEGIN:VEVENT
UID:ce5e595edc567c9ca01361690dc096d1
DTSTAMP:20260421T003717Z
SUMMARY:Reena's 51 Years Gala
DESCRIPTION:UJA Federation of Greater Toronto\nJewish Toronto Calendar\nhtt
 ps://jewishtoronto.com/calendar/reenas-51-years-gala---new-date-1723218342
 \n\nPlease join us for the 51 years of REENA\nGALA\n\nSPECIAL PERFORMANCE 
 BY:\nMichael Rapaport
DTSTART;TZID=America/Toronto:20241113T183000
DTEND;TZID=America/Toronto:20241113T220000
END:VEVENT
END:VCALENDAR
