BEGIN:VCALENDAR
PRODID:-//eluceo/ical//2.0/EN
VERSION:2.0
CALSCALE:GREGORIAN
BEGIN:VEVENT
UID:d3cca5c290ab70eaef399d6a72ff07b6
DTSTAMP:20260425T220008Z
SUMMARY:Reena Foundation's VIP Event
DESCRIPTION:UJA Federation of Greater Toronto\nJewish Toronto Calendar\nhtt
 ps://jewishtoronto.com/calendar/reena-foundations-vip-event\n\nVIP Event f
 eatures a Texas Hold 'Em poker tournament and casino games. All proceeds b
 enefit Reena Foundation. Please contact Rachel for tickets and for sponsor
 ship opportunities.\n\n\n 
DTSTART;TZID=America/Toronto:20141025T203000
DTEND;TZID=America/Toronto:20141025T223000
END:VEVENT
END:VCALENDAR
