BEGIN:VCALENDAR
PRODID:-//eluceo/ical//2.0/EN
VERSION:2.0
CALSCALE:GREGORIAN
BEGIN:VEVENT
UID:30bf12a1c1a99d00a883d1aa259bc390
DTSTAMP:20260425T212027Z
SUMMARY:Reena Foundation Gala
DESCRIPTION:UJA Federation of Greater Toronto\nJewish Toronto Calendar\nhtt
 ps://jewishtoronto.com/calendar/reena-foundation-gala-1675351772\n\nThe Re
 ena Foundation Gala is always an opportunity to celebrate our accomplishme
 nts and honour those in the community who have worked so hard to ensure th
 e continuing support of individuals with diverse abilities. Join us this y
 ear for a special 50th anniversary gala as we celebrate all the people\, b
 oth past and present\, who have helped Reena become a sector leader in dev
 elopmental health services.
DTSTART;TZID=America/Toronto:20231107T183000
DTEND;TZID=America/Toronto:20231107T233000
END:VEVENT
END:VCALENDAR
