BEGIN:VCALENDAR
PRODID:-//eluceo/ical//2.0/EN
VERSION:2.0
CALSCALE:GREGORIAN
BEGIN:VEVENT
UID:7cbbb1fdf05f6fc62b927608949ee2a9
DTSTAMP:20260419T231314Z
SUMMARY:Reena Foundation - Exceptional Abilities Gala
DESCRIPTION:UJA Federation of Greater Toronto\nJewish Toronto Calendar\nhtt
 ps://jewishtoronto.com/calendar/reena-foundation---exceptional-abilities-g
 ala-1499970592\n\nSave the Date - more details to come
DTSTART;TZID=America/Toronto:20171116T180000
DTEND;TZID=America/Toronto:20171116T230000
END:VEVENT
END:VCALENDAR
