BEGIN:VCALENDAR
PRODID:-//eluceo/ical//2.0/EN
VERSION:2.0
CALSCALE:GREGORIAN
BEGIN:VEVENT
UID:ab1e728cc0b1712cebb94e58b4372ab9
DTSTAMP:20260423T124840Z
SUMMARY:ReelAbilities Film Festival
DESCRIPTION:UJA Federation of Greater Toronto\nJewish Toronto Calendar\nhtt
 ps://jewishtoronto.com/calendar/reelabilities-film-festival-1492106925\n\n
 ReelAbilities Film Festival brings together the community to promote aware
 ness and appreciation of the lives\, stories and artistic expressions of p
 eople with different abilities. ReelAbilities Film Festival showcases film
 s\, conversations and artistic programs to explore\, embrace and celebrate
  the diversity of our shared human experience. This is the second annual R
 eelAbilities Festival in Toronto. RAFFTO screens all films with Open Capti
 on in accessible venues. Select films screen with...
DTSTART;TZID=America/Toronto:20170511T193000
DTEND;TZID=America/Toronto:20170518T193000
END:VEVENT
END:VCALENDAR
