BEGIN:VCALENDAR
PRODID:-//eluceo/ical//2.0/EN
VERSION:2.0
CALSCALE:GREGORIAN
BEGIN:VEVENT
UID:c4ca4b252671415991a11527b1ef795c
DTSTAMP:20260420T230333Z
SUMMARY:Reel & Spiel
DESCRIPTION:UJA Federation of Greater Toronto\nJewish Toronto Calendar\nhtt
 ps://jewishtoronto.com/calendar/reel--spiel-1477931697\n\nJoin us for clas
 sic Jewish Cinema. With an introduction by Rabbi Leslie Lipson.\n\nIndigna
 tion. (2016) Based on the Philip Roth novel of the same name. A Jewish col
 lege student falls for a young woman while clashing with his dean in 1951 
 Ohio.\n\n$5 popcorn & refreshments served. Call to reserve your spot. 
DTSTART;TZID=America/Toronto:20161123T190000
DTEND;TZID=America/Toronto:20161123T213000
END:VEVENT
END:VCALENDAR
