BEGIN:VCALENDAR
PRODID:-//eluceo/ical//2.0/EN
VERSION:2.0
CALSCALE:GREGORIAN
BEGIN:VEVENT
UID:4bf3f2af4977978d05997bba0a892643
DTSTAMP:20260421T124500Z
SUMMARY:Red Carpet Stage and Screen Series Presents: Deli Night
DESCRIPTION:UJA Federation of Greater Toronto\nJewish Toronto Calendar\nhtt
 ps://jewishtoronto.com/calendar/red-carpet-stage-and-screen-series-present
 s-deli-night-1460138531\n\nExclusive screening of "Deli-Man"\, a darling o
 f the film festival circuit that celebrates the Jewish-American delicatess
 en - corned beef\, pickles\, blintzes! Watch as the exuberant\, third-gene
 ration deli man Ziggy Gruber discusses the challenges of keeping this impo
 rtant tradition alive in a changing landscape.\n\n7:00 pm - Delicious Deli
  Noshes\n8:00 pm - Film Screening.\n\nPlease visit www.baycrest.org/redcar
 pet/ to select your donation amount and join us!
DTSTART;TZID=America/Toronto:20160609T190000
DTEND;TZID=America/Toronto:20160609T220000
END:VEVENT
END:VCALENDAR
