BEGIN:VCALENDAR
PRODID:-//eluceo/ical//2.0/EN
VERSION:2.0
CALSCALE:GREGORIAN
BEGIN:VEVENT
UID:7e5462a207ca4fa6a693c6a336275303
DTSTAMP:20260422T061136Z
SUMMARY:Baycrest Foundation  - Red Carpet Stage and Screen Series Presents:
  B.I.F.F
DESCRIPTION:UJA Federation of Greater Toronto\nJewish Toronto Calendar\nhtt
 ps://jewishtoronto.com/calendar/red-carpet-stage-and-screen-series-present
 s-biff-1459881965\n\nLittle known BIG films at our very own Baycrest Inter
 national Film Festival! This double-feature event includes a screening of 
 two great films.\n"Jews and Baseball: An American Love Story"\n4pm - Stadi
 um-style snacks\n5pm - Film Screening\nQ&A to follow\n\n"The Secret Disco 
 Revolution"\n7pm - Cocktails & Hors D'Oeuvres\n8pm - Film Screening\nQ&A t
 o follow\n\nPlease visit www.baycrest.org/redcarpet/ to select your donati
 on amount and join us!
DTSTART;TZID=America/Toronto:20160925T160000
DTEND;TZID=America/Toronto:20160925T210000
END:VEVENT
END:VCALENDAR
