BEGIN:VCALENDAR
PRODID:-//eluceo/ical//2.0/EN
VERSION:2.0
CALSCALE:GREGORIAN
BEGIN:VEVENT
UID:0f51e00df2e542780b8bfc338624f7b1
DTSTAMP:20260424T032657Z
SUMMARY:Red Carpet Stage and Screen Series Opening Night
DESCRIPTION:UJA Federation of Greater Toronto\nJewish Toronto Calendar\nhtt
 ps://jewishtoronto.com/calendar/red-carpet-stage-and-screen-series-opening
 -night-1459800018\n\n7pm - Cocktails and Persian Cuisine\n8pm - Film Scree
 ning
DTSTART;TZID=America/Toronto:20160519T190000
DTEND;TZID=America/Toronto:20160519T220000
END:VEVENT
END:VCALENDAR
