BEGIN:VCALENDAR
PRODID:-//eluceo/ical//2.0/EN
VERSION:2.0
CALSCALE:GREGORIAN
BEGIN:VEVENT
UID:48f47ac2dcfc99cd1f31b6027d219e09
DTSTAMP:20260421T155926Z
SUMMARY:Recovery Brunch
DESCRIPTION:UJA Federation of Greater Toronto\nJewish Toronto Calendar\nhtt
 ps://jewishtoronto.com/calendar/recovery-brunch-1554391356\n\nThe 2019 Rec
 overy Brunch will be held in the heart of downtown Toronto at The Spoke Cl
 ub on its newly renovated rooftop patio\, featuring customized brunch stat
 ions\, mimosas\, and a Caesar bar. Don't miss this opportunity to network\
 , socialize and enjoy gourmet food and drink on one of Toronto's best roof
 tops while supporting Bridgepoint Active Healthcare\, part of Sinai Health
  System.
DTSTART;TZID=America/Toronto:20190526T100000
DTEND;TZID=America/Toronto:20190526T140000
END:VEVENT
END:VCALENDAR
