BEGIN:VCALENDAR
PRODID:-//eluceo/ical//2.0/EN
VERSION:2.0
CALSCALE:GREGORIAN
BEGIN:VEVENT
UID:a99db8987629a0c540abf227f98cde3f
DTSTAMP:20260421T054522Z
SUMMARY:Ready\, Willing & Able: Disability Advocacy in Israel
DESCRIPTION:UJA Federation of Greater Toronto\nJewish Toronto Calendar\nhtt
 ps://jewishtoronto.com/calendar/ready-willing-able-disability-advocacy-in-
 israel\n\nJDAM: Jewish Disability Advocacy Month\n\nA month of education\,
  solidarity-building\, and empowerment in support of people with disabilit
 ies\, powered by the Jewish Federations of North America.\n\nThis is an on
 line event. To register: https://www.jewishtogether.org/jdam\n\n 
DTSTART;TZID=America/Toronto:20210210T120000
DTEND;TZID=America/Toronto:20210210T140000
END:VEVENT
END:VCALENDAR
