BEGIN:VCALENDAR
PRODID:-//eluceo/ical//2.0/EN
VERSION:2.0
CALSCALE:GREGORIAN
BEGIN:VEVENT
UID:844a943740897e0ced977a433d8d85c6
DTSTAMP:20260425T145146Z
SUMMARY:RCS: Simple Truths
DESCRIPTION:UJA Federation of Greater Toronto\nJewish Toronto Calendar\nhtt
 ps://jewishtoronto.com/calendar/rcs-simple-truths-1478621637\n\nThe Rosh C
 hodesh Society - an international Jewish sisterhood organized by the Chaba
 d movement's Jewish Learning Institute (JLI) - is launching its course\, S
 imple Truths\, in JRCC South Thornhill.The course classes will be starting
  on November 30\, 2016\, and continuing over seven months with a once-per-
 month class that explores twelve foundational core beliefs and perspective
 s of Judaism. They are insights that anchor us\, empower us\, and guide us
  in times of doubt and uncertainty\; that nourish ...
DTSTART;TZID=America/Toronto:20161130T200000
DTEND;TZID=America/Toronto:20161130T213000
END:VEVENT
END:VCALENDAR
