BEGIN:VCALENDAR
PRODID:-//eluceo/ical//2.0/EN
VERSION:2.0
CALSCALE:GREGORIAN
BEGIN:VEVENT
UID:27fd263b00dbb54b286383e220e98bf3
DTSTAMP:20260423T185716Z
SUMMARY:Raoul Wallenberg Day Film Screening
DESCRIPTION:UJA Federation of Greater Toronto\nJewish Toronto Calendar\nhtt
 ps://jewishtoronto.com/calendar/raoul-wallenberg-day-film-screening-164142
 6088\n\nIn honour of Raoul Wallenberg Day 2022\, join the Neuberger for a 
 film screening of PASSAGE TO SWEDEN. This 2021 release tells the lesser-kn
 own story of events occurring in Scandinavia and Budapest during the Secon
 d World War. It focuses on the heroic actions of ordinary people who saved
  the lives of thousands of Jews and fellow countrymen.\n\nPassage to Swede
 n will be available for 72 hours on the Virtual J.\nA talkback with the fi
 lmmakers will take place at 7:30pm on January 17\, on the Virtu...
DTSTART;TZID=America/Toronto:20220117T193000
DTEND;TZID=America/Toronto:20220117T213000
END:VEVENT
END:VCALENDAR
